BEGIN:VCALENDAR
VERSION:2.0
PRODID:-//Plone.org//NONSGML plone.app.event//EN
X-WR-TIMEZONE:US/Central
BEGIN:VEVENT
SUMMARY:Summer Reading Program Begins: "Libraries: Deep in the Heart of Te
 xas"
DTSTART;TZID=US/Central:20090616T103000
DTEND;TZID=US/Central:20090616T110000
DTSTAMP:20260420T024340Z
UID:ce49c6a0087197b5283bc0a95a589413@saas_stack_varnish:6080
CONTACT:Kathleen Hale\, 254-932-6370\, kathleen.hale@members.ctls.net
CREATED:20090613T173656Z
DESCRIPTION:Storytime and musical programs on Tuesday and Thursday morning
 s at 10:30\, June 16 - July 16\, '09
LAST-MODIFIED:20090613T180327Z
LOCATION:Library
URL:https://valley-mills.ploud.net/news-events/lib-cal/summer-reading-prog
 ram-begins
END:VEVENT
BEGIN:VTIMEZONE
TZID:US/Central
X-LIC-LOCATION:US/Central
BEGIN:DAYLIGHT
DTSTART:20090308T030000
TZNAME:CDT
TZOFFSETFROM:-0600
TZOFFSETTO:-0500
END:DAYLIGHT
END:VTIMEZONE
END:VCALENDAR
