BEGIN:VCALENDAR
VERSION:2.0
PRODID:-//Plone.org//NONSGML plone.app.event//EN
X-WR-TIMEZONE:US/Central
BEGIN:VEVENT
SUMMARY:Storytime & Reading Certificates
DTSTART;TZID=US/Central:20090728T103000
DTEND;TZID=US/Central:20090728T113000
DTSTAMP:20260420T024830Z
UID:0040ae71fb90a634dfef48f497db62c2@saas_stack_varnish:6080
CREATED:20090627T172515Z
LAST-MODIFIED:20090627T172526Z
URL:https://valley-mills.ploud.net/news-events/lib-cal/storytime-reading-c
 ertificates
END:VEVENT
BEGIN:VTIMEZONE
TZID:US/Central
X-LIC-LOCATION:US/Central
BEGIN:DAYLIGHT
DTSTART:20090308T030000
TZNAME:CDT
TZOFFSETFROM:-0600
TZOFFSETTO:-0500
END:DAYLIGHT
END:VTIMEZONE
END:VCALENDAR
