BEGIN:VCALENDAR
VERSION:2.0
PRODID:-//Plone.org//NONSGML plone.app.event//EN
X-WR-TIMEZONE:US/Central
BEGIN:VEVENT
SUMMARY:Storytime 10:30 - 11:00
DTSTART;TZID=US/Central:20090707T103000
DTEND;TZID=US/Central:20090707T110000
DTSTAMP:20260420T024851Z
UID:349cc12310364a348f27906fdf21c0c4@saas_stack_varnish:6080
CREATED:20090627T171215Z
LAST-MODIFIED:20090627T171312Z
URL:https://valley-mills.ploud.net/news-events/lib-cal/storytime-10-30-11-
 00-3
END:VEVENT
BEGIN:VTIMEZONE
TZID:US/Central
X-LIC-LOCATION:US/Central
BEGIN:DAYLIGHT
DTSTART:20090308T030000
TZNAME:CDT
TZOFFSETFROM:-0600
TZOFFSETTO:-0500
END:DAYLIGHT
END:VTIMEZONE
END:VCALENDAR
