BEGIN:VCALENDAR
VERSION:2.0
PRODID:-//Plone.org//NONSGML plone.app.event//EN
X-WR-TIMEZONE:US/Central
BEGIN:VEVENT
SUMMARY:Storytime
DTSTART;TZID=US/Central:20090630T103000
DTEND;TZID=US/Central:20090630T110000
DTSTAMP:20260420T041552Z
UID:56a62566c689f69a3600c29337c2fb82@saas_stack_varnish:6080
CONTACT:Kathleen Hale\, 254-932-6370\, kathleen.hale@members.ctls.net
CREATED:20090613T183215Z
LAST-MODIFIED:20090613T183231Z
LOCATION:Library
URL:https://valley-mills.ploud.net/news-events/lib-cal/storytime-1
END:VEVENT
BEGIN:VTIMEZONE
TZID:US/Central
X-LIC-LOCATION:US/Central
BEGIN:DAYLIGHT
DTSTART:20090308T030000
TZNAME:CDT
TZOFFSETFROM:-0600
TZOFFSETTO:-0500
END:DAYLIGHT
END:VTIMEZONE
END:VCALENDAR
