BEGIN:VCALENDAR
VERSION:2.0
PRODID:-//Plone.org//NONSGML plone.app.event//EN
X-WR-TIMEZONE:US/Central
BEGIN:VEVENT
SUMMARY:Patriotic musical program 10:30 -11:45
DTSTART;TZID=US/Central:20090702T103000
DTEND;TZID=US/Central:20090702T113000
DTSTAMP:20260425T204947Z
UID:9ae3bf31f69240bdc67eb2453af431a9@saas_stack_varnish:6080
CONTACT:Kathleen Hale\, 254-932-6370\, kathleen.hale@members.ctls.net
CREATED:20090613T184301Z
DESCRIPTION:Patriotic musical program\, (10:30) with piano instruction for
  beginners on a keyboard to play "America" (11:15 - 11:45 and at 1:30 -2:0
 0
LAST-MODIFIED:20090627T170533Z
LOCATION:Library
URL:https://valley-mills.ploud.net/news-events/lib-cal/patriotic-musical-p
 rogram-1
END:VEVENT
BEGIN:VTIMEZONE
TZID:US/Central
X-LIC-LOCATION:US/Central
BEGIN:DAYLIGHT
DTSTART:20090308T030000
TZNAME:CDT
TZOFFSETFROM:-0600
TZOFFSETTO:-0500
END:DAYLIGHT
END:VTIMEZONE
END:VCALENDAR
