BEGIN:VCALENDAR
VERSION:2.0
PRODID:-//Plone.org//NONSGML plone.app.event//EN
X-WR-TIMEZONE:US/Central
BEGIN:VEVENT
SUMMARY:Opportunity Online Summit in San Antonio/ Hale & Wingate attendees
DTSTART;TZID=US/Central:20091007T140000
DTEND;TZID=US/Central:20091008T123000
DTSTAMP:20260420T024944Z
UID:45e2ab1d96fc8b5bc6ad2403e132bd7d@saas_stack_varnish:6080
CREATED:20091009T195324Z
DESCRIPTION:Attended by Janice Wingate\, VP of the Library Board and Kathl
 een Hale\, Librarian
LAST-MODIFIED:20091009T195441Z
LOCATION:the Westin Resort at La Cantera PkwySan Antonio
URL:https://valley-mills.ploud.net/news-events/lib-cal/opportunity-online-
 summit-in-san-antonio-hale-wingate-attendees
END:VEVENT
BEGIN:VTIMEZONE
TZID:US/Central
X-LIC-LOCATION:US/Central
BEGIN:DAYLIGHT
DTSTART:20090308T030000
TZNAME:CDT
TZOFFSETFROM:-0600
TZOFFSETTO:-0500
END:DAYLIGHT
END:VTIMEZONE
END:VCALENDAR
