BEGIN:VCALENDAR
VERSION:2.0
PRODID:-//Plone.org//NONSGML plone.app.event//EN
X-WR-TIMEZONE:US/Central
BEGIN:VEVENT
SUMMARY:Musical program - Chisholm Trail songs
DTSTART;TZID=US/Central:20090625T103000
DTEND;TZID=US/Central:20090625T113000
DTSTAMP:20260420T024247Z
UID:e697795baaca11725453e0522b9b0e94@saas_stack_varnish:6080
CONTACT:Kathleen Hale\, 254-932-6370\, kathleen.hale@members.ctls.net
CREATED:20090613T182702Z
DESCRIPTION:Musical program -- piano instruction on keyboard for beginners
LAST-MODIFIED:20090620T193121Z
LOCATION:Library
URL:https://valley-mills.ploud.net/news-events/lib-cal/musical-program
END:VEVENT
BEGIN:VTIMEZONE
TZID:US/Central
X-LIC-LOCATION:US/Central
BEGIN:DAYLIGHT
DTSTART:20090308T030000
TZNAME:CDT
TZOFFSETFROM:-0600
TZOFFSETTO:-0500
END:DAYLIGHT
END:VTIMEZONE
END:VCALENDAR
