BEGIN:VCALENDAR
VERSION:2.0
PRODID:-//Plone.org//NONSGML plone.app.event//EN
X-WR-TIMEZONE:US/Central
BEGIN:VEVENT
SUMMARY:Musical Program 10:30 -11:30
DTSTART;TZID=US/Central:20090709T103000
DTEND;TZID=US/Central:20090709T114500
DTSTAMP:20260420T024500Z
UID:5b390b0d3a5aba8857fd6971f91bd804@saas_stack_varnish:6080
CONTACT:Kathleen Hale\, 254-932-6370\, kathleen.hale@members.ctls.net
CREATED:20090627T154326Z
DESCRIPTION:Musical program each Thursday\, with piano instruction on keyb
 oard
LAST-MODIFIED:20090627T154420Z
LOCATION:Library
URL:https://valley-mills.ploud.net/news-events/lib-cal/musical-program-10-
 30-11-30
END:VEVENT
BEGIN:VTIMEZONE
TZID:US/Central
X-LIC-LOCATION:US/Central
BEGIN:DAYLIGHT
DTSTART:20090308T030000
TZNAME:CDT
TZOFFSETFROM:-0600
TZOFFSETTO:-0500
END:DAYLIGHT
END:VTIMEZONE
END:VCALENDAR
