BEGIN:VCALENDAR
VERSION:2.0
PRODID:-//Plone.org//NONSGML plone.app.event//EN
X-WR-TIMEZONE:US/Central
BEGIN:VEVENT
SUMMARY:Musical Program 10:30 -11:00 a.m.
DTSTART;TZID=US/Central:20090730T223000
DTEND;TZID=US/Central:20090730T234500
DTSTAMP:20260420T024506Z
UID:44ad43b82a39c293d73f9e1856df65a0@saas_stack_varnish:6080
CREATED:20090627T172039Z
DESCRIPTION:Musical program 10\;30 - 12:00\, with instruction at 11:15 - 1
 1: 45
LAST-MODIFIED:20090718T190659Z
URL:https://valley-mills.ploud.net/news-events/lib-cal/musical-program-10-
 30-11-00-3
END:VEVENT
BEGIN:VTIMEZONE
TZID:US/Central
X-LIC-LOCATION:US/Central
BEGIN:DAYLIGHT
DTSTART:20090308T030000
TZNAME:CDT
TZOFFSETFROM:-0600
TZOFFSETTO:-0500
END:DAYLIGHT
END:VTIMEZONE
END:VCALENDAR
