BEGIN:VCALENDAR
VERSION:2.0
PRODID:-//Plone.org//NONSGML plone.app.event//EN
X-WR-TIMEZONE:US/Central
BEGIN:VEVENT
SUMMARY:Music program begins for the Fall
DTSTART;TZID=US/Central:20090914T103000
DTEND;TZID=US/Central:20090914T170000
DTSTAMP:20260420T024501Z
UID:5c6128c78d3f9878b8516fc437fac91b@saas_stack_varnish:6080
CREATED:20090822T181346Z
DESCRIPTION:Instruction on keyboard for those registered in the music prog
 ram -- adults in the morning/ children after school.
LAST-MODIFIED:20090910T165518Z
LOCATION:Library
URL:https://valley-mills.ploud.net/news-events/lib-cal/music-program-begin
 s-for-the-fall
END:VEVENT
BEGIN:VTIMEZONE
TZID:US/Central
X-LIC-LOCATION:US/Central
BEGIN:DAYLIGHT
DTSTART:20090308T030000
TZNAME:CDT
TZOFFSETFROM:-0600
TZOFFSETTO:-0500
END:DAYLIGHT
END:VTIMEZONE
END:VCALENDAR
