BEGIN:VCALENDAR
VERSION:2.0
PRODID:-//Plone.org//NONSGML plone.app.event//EN
X-WR-TIMEZONE:US/Central
BEGIN:VEVENT
SUMMARY:Library closed
DTSTART;TZID=US/Central:20090410T100000
DTEND;TZID=US/Central:20090411T150000
DTSTAMP:20260420T030254Z
UID:583a71295404454cfd1f8fff5476405b@saas_stack_varnish:6080
CREATED:20090410T163358Z
LAST-MODIFIED:20090410T163452Z
LOCATION:Library
URL:https://valley-mills.ploud.net/news-events/lib-cal/library-closed
END:VEVENT
BEGIN:VTIMEZONE
TZID:US/Central
X-LIC-LOCATION:US/Central
BEGIN:DAYLIGHT
DTSTART:20090308T030000
TZNAME:CDT
TZOFFSETFROM:-0600
TZOFFSETTO:-0500
END:DAYLIGHT
END:VTIMEZONE
END:VCALENDAR
