BEGIN:VCALENDAR
VERSION:2.0
PRODID:-//Plone.org//NONSGML plone.app.event//EN
X-WR-TIMEZONE:US/Central
BEGIN:VEVENT
SUMMARY:Labor Day holiday
DTSTART;TZID=US/Central:20090907T100000
DTEND;TZID=US/Central:20090907T130000
DTSTAMP:20260420T041629Z
UID:bedd7ce366d0d6d5acd6f69abd901011@saas_stack_varnish:6080
CREATED:20090822T180100Z
DESCRIPTION:Library closed
LAST-MODIFIED:20090822T180624Z
URL:https://valley-mills.ploud.net/news-events/lib-cal/labor-day-holiday
END:VEVENT
BEGIN:VTIMEZONE
TZID:US/Central
X-LIC-LOCATION:US/Central
BEGIN:DAYLIGHT
DTSTART:20090308T030000
TZNAME:CDT
TZOFFSETFROM:-0600
TZOFFSETTO:-0500
END:DAYLIGHT
END:VTIMEZONE
END:VCALENDAR
