BEGIN:VCALENDAR
VERSION:2.0
PRODID:-//Plone.org//NONSGML plone.app.event//EN
X-WR-TIMEZONE:US/Central
BEGIN:VEVENT
SUMMARY:Genealogy Meeting
DTSTART;TZID=US/Central:20090727T103000
DTEND;TZID=US/Central:20090727T120000
DTSTAMP:20260420T024742Z
UID:19e7d656663bea76079d49c842ab730c@saas_stack_varnish:6080
CONTACT:254-932-6370\, kathleen.hale@members.ctls.net
CREATED:20090717T233538Z
DESCRIPTION:Ancestry of the American Colonists -- program by Kathleen Hale
 \, Librarian
LAST-MODIFIED:20090718T003437Z
URL:https://valley-mills.ploud.net/news-events/lib-cal/genealogy-meeting
END:VEVENT
BEGIN:VTIMEZONE
TZID:US/Central
X-LIC-LOCATION:US/Central
BEGIN:DAYLIGHT
DTSTART:20090308T030000
TZNAME:CDT
TZOFFSETFROM:-0600
TZOFFSETTO:-0500
END:DAYLIGHT
END:VTIMEZONE
END:VCALENDAR
