BEGIN:VCALENDAR
VERSION:2.0
PRODID:-//Plone.org//NONSGML plone.app.event//EN
X-WR-TIMEZONE:US/Central
BEGIN:VEVENT
SUMMARY:Board meetings
DTSTART;TZID=US/Central:20100719T183000
DTEND;TZID=US/Central:20100719T203000
DTSTAMP:20260420T024845Z
UID:c21a220b79aecc6a477c104da4dff2dc@saas_stack_varnish:6080
CREATED:20080813T164108Z
DESCRIPTION:Board
LAST-MODIFIED:20101030T182137Z
LOCATION:Library
URL:https://valley-mills.ploud.net/news-events/lib-cal/event.2008-08-13.20
 72843574
END:VEVENT
BEGIN:VTIMEZONE
TZID:US/Central
X-LIC-LOCATION:US/Central
BEGIN:DAYLIGHT
DTSTART:20100314T030000
TZNAME:CDT
TZOFFSETFROM:-0600
TZOFFSETTO:-0500
END:DAYLIGHT
END:VTIMEZONE
END:VCALENDAR
