BEGIN:VCALENDAR
VERSION:2.0
PRODID:-//Plone.org//NONSGML plone.app.event//EN
X-WR-TIMEZONE:US/Central
BEGIN:VEVENT
SUMMARY:Columbus Day to be observed/ music lessons at 10:30\, 3:45  &  -- 
 "America" / chords
DTSTART;TZID=US/Central:20091012T100000
DTEND;TZID=US/Central:20091012T140000
DTSTAMP:20260420T025003Z
UID:7f444868f00a8259a9ea90e2fe954e04@saas_stack_varnish:6080
CONTACT:Kathleen Hale\, 254-932-6370\, kathleen.hale@members.ctls.net
CREATED:20091009T194842Z
LAST-MODIFIED:20091017T030603Z
URL:https://valley-mills.ploud.net/news-events/lib-cal/columbus-day-to-be-
 observed-music-lesson-at-10-30-america
END:VEVENT
BEGIN:VTIMEZONE
TZID:US/Central
X-LIC-LOCATION:US/Central
BEGIN:DAYLIGHT
DTSTART:20090308T030000
TZNAME:CDT
TZOFFSETFROM:-0600
TZOFFSETTO:-0500
END:DAYLIGHT
END:VTIMEZONE
END:VCALENDAR
