BEGIN:VCALENDAR
VERSION:2.0
PRODID:-//Plone.org//NONSGML plone.app.event//EN
X-WR-TIMEZONE:US/Central
BEGIN:VEVENT
SUMMARY:Book Review-- authors Clarke S. Straughan & Donna Veteto
DTSTART;TZID=US/Central:20090522T110000
DTEND;TZID=US/Central:20090528T123000
DTSTAMP:20260425T205212Z
UID:bbb26234daceff1fa4bb4759cf31a32b@saas_stack_varnish:6080
CONTACT:254-932-6370\, kathleen.hale@members.ctls.net
CREATED:20090428T195712Z
DESCRIPTION:Clarke Straughan will review his book and tell of his adventur
 es.\nDonna Veteto\, local journalist\, will give a talk on helping with th
 e book  and about the book publication
LAST-MODIFIED:20090428T202127Z
LOCATION:Library
URL:https://valley-mills.ploud.net/news-events/lib-cal/book-review-authors
 -clarke-s-straughan-donna-veteto
END:VEVENT
BEGIN:VTIMEZONE
TZID:US/Central
X-LIC-LOCATION:US/Central
BEGIN:DAYLIGHT
DTSTART:20090308T030000
TZNAME:CDT
TZOFFSETFROM:-0600
TZOFFSETTO:-0500
END:DAYLIGHT
END:VTIMEZONE
END:VCALENDAR
