BEGIN:VCALENDAR
VERSION:2.0
PRODID:-//Plone.org//NONSGML plone.app.event//EN
X-WR-TIMEZONE:US/Central
BEGIN:VEVENT
SUMMARY:Board meeting
DTSTART;TZID=US/Central:20090216T183000
DTEND;TZID=US/Central:20090216T200000
DTSTAMP:20260420T024419Z
UID:05bf4ed32f9171e61c7146aea2c2e6b9@saas_stack_varnish:6080
CONTACT:Kathleen Hale\, 254-932-6370\, kathleen.hale@members.ctls.net
CREATED:20090213T205602Z
LAST-MODIFIED:20090213T205743Z
LOCATION:Library
URL:https://valley-mills.ploud.net/news-events/lib-cal/board-meeting
END:VEVENT
BEGIN:VTIMEZONE
TZID:US/Central
X-LIC-LOCATION:US/Central
BEGIN:STANDARD
DTSTART:20081102T010000
TZNAME:CST
TZOFFSETFROM:-0500
TZOFFSETTO:-0600
END:STANDARD
END:VTIMEZONE
END:VCALENDAR
