BEGIN:VCALENDAR
VERSION:2.0
PRODID:-//Plone.org//NONSGML plone.app.event//EN
X-WR-TIMEZONE:US/Central
BEGIN:VEVENT
SUMMARY:Art & Artists by Lillian Lempke-Jacoway
DTSTART;TZID=US/Central:20090811T103000
DTEND;TZID=US/Central:20090811T233000
DTSTAMP:20260420T024911Z
UID:318619aff141f4ce16210d86466b03bc@saas_stack_varnish:6080
CONTACT:932-6370
CREATED:20090804T192132Z
LAST-MODIFIED:20090804T192215Z
LOCATION:Library
URL:https://valley-mills.ploud.net/news-events/lib-cal/art-artists-by-lill
 ian-lempke-jacoway
END:VEVENT
BEGIN:VTIMEZONE
TZID:US/Central
X-LIC-LOCATION:US/Central
BEGIN:DAYLIGHT
DTSTART:20090308T030000
TZNAME:CDT
TZOFFSETFROM:-0600
TZOFFSETTO:-0500
END:DAYLIGHT
END:VTIMEZONE
END:VCALENDAR
