BEGIN:VCALENDAR
VERSION:2.0
PRODID:-//Plone.org//NONSGML plone.app.event//EN
X-WR-TIMEZONE:US/Central
BEGIN:VEVENT
SUMMARY:Annual meeting of VM Library Association
DTSTART;TZID=US/Central:20090119T183000
DTEND;TZID=US/Central:20090319T203000
DTSTAMP:20260420T024911Z
UID:c4b3e810bd3b1ed566d3063e3b1881b7@saas_stack_varnish:6080
CREATED:20090319T165142Z
DESCRIPTION:Annual meeting of  library association
LAST-MODIFIED:20090319T165211Z
LOCATION:Library
URL:https://valley-mills.ploud.net/news-events/lib-cal/annual-meeting-of-v
 m-library-association
END:VEVENT
BEGIN:VTIMEZONE
TZID:US/Central
X-LIC-LOCATION:US/Central
BEGIN:STANDARD
DTSTART:20081102T010000
TZNAME:CST
TZOFFSETFROM:-0500
TZOFFSETTO:-0600
END:STANDARD
BEGIN:DAYLIGHT
DTSTART:20090308T030000
TZNAME:CDT
TZOFFSETFROM:-0600
TZOFFSETTO:-0500
END:DAYLIGHT
END:VTIMEZONE
END:VCALENDAR
