BEGIN:VCALENDAR
VERSION:2.0
PRODID:-//Plone.org//NONSGML plone.app.event//EN
X-WR-TIMEZONE:US/Central
BEGIN:VEVENT
SUMMARY:Local Heroes - Fire Dept.
DTSTART;TZID=US/Central:20230314T140000
DTEND;TZID=US/Central:20230314T150000
DTSTAMP:20260420T024220Z
UID:24a71397e00841aea6a2decb1eaca336@saas_stack_varnish:6080
CONTACT:Kathleen Hale\, 254-932-6370\, valleymillslibdir@yahoo.com
CREATED:20230309T204646Z
LAST-MODIFIED:20230309T205934Z
LOCATION:library
URL:https://valley-mills.ploud.net/local-heroes-fire-dept
END:VEVENT
BEGIN:VTIMEZONE
TZID:US/Central
X-LIC-LOCATION:US/Central
BEGIN:DAYLIGHT
DTSTART:20230312T030000
TZNAME:CDT
TZOFFSETFROM:-0600
TZOFFSETTO:-0500
END:DAYLIGHT
END:VTIMEZONE
END:VCALENDAR
